BEGIN:VCALENDAR
VERSION:2.0
PRODID:-//wp-events-plugin.com//7.2.3.1//EN
TZID:Europe/Berlin
X-WR-TIMEZONE:Europe/Berlin
BEGIN:VEVENT
UID:830@qigong-im-allgaeu.de
DTSTART;TZID=Europe/Berlin;VALUE=DATE:20290113
DTEND;TZID=Europe/Berlin;VALUE=DATE:20290115
DTSTAMP:20260209T161347Z
URL:https://qigong-im-allgaeu.de/termine/wiederholung-und-vertiefung-4/
SUMMARY:Wiederholung und Vertiefung
DESCRIPTION:\n 	Wiederholen\, Vertiefen der wichtigsten Unterrichtsinhalte\
 n 	Klärung offener Fragen\n 	Vertiefung von Übungen nach Bedarf\n
CATEGORIES:Ausbildung 2026,Grundlagen
LOCATION:Stiller Übungsraum Wangen\, Spinnereigarten 10\, Wangen\, 88239\,
  Deutschland
GEO:47.677589;9.821454
X-APPLE-STRUCTURED-LOCATION;VALUE=URI;X-ADDRESS=Spinnereigarten 10\, Wangen
 \, 88239\, Deutschland;X-APPLE-RADIUS=100;X-TITLE=Stiller Übungsraum Wang
 en:geo:47.677589,9.821454
END:VEVENT
BEGIN:VTIMEZONE
TZID:Europe/Berlin
X-LIC-LOCATION:Europe/Berlin
BEGIN:STANDARD
DTSTART:20281029T020000
TZOFFSETFROM:+0200
TZOFFSETTO:+0100
TZNAME:CET
END:STANDARD
END:VTIMEZONE
END:VCALENDAR