BEGIN:VCALENDAR
VERSION:2.0
PRODID:-//wp-events-plugin.com//7.2.3.1//EN
TZID:Europe/Berlin
X-WR-TIMEZONE:Europe/Berlin
BEGIN:VEVENT
UID:139@qigong-im-allgaeu.de
DTSTART;TZID=Europe/Berlin:20200829T093000
DTEND;TZID=Europe/Berlin:20200829T170000
DTSTAMP:20200804T091237Z
URL:https://qigong-im-allgaeu.de/termine/weisser-kranich-und-die-atemraeum
 e/
SUMMARY:Weißer Kranich und die Atemräume
DESCRIPTION:Der Weiße Kranich ist eine kleine Übungsreihe von 6 kleinen 
 Übungen\, die Bewegungen der Kraniche nachahmt. Hiermit öffnet sie gut a
 lle Atemräume. Bezogen auf die chinesische Medizin ist sie auf die Reguli
 erung des Atmungssystems und des Immunsystems ausgerichtet.\n\nVerlegt in 
 den VHS-Raum in der Unteren Grabenstraße in Leutkirch. Bei passendem Wett
 er üben wir im Freien.
CATEGORIES:einzel,EinzelFB,Fortbildung
LOCATION:Leutkirch Pavillon Wilhelmshöhe\, Wilhelmshöhe\, Leutkirch\, Deu
 tschland
GEO:47.826089;10.02785
X-APPLE-STRUCTURED-LOCATION;VALUE=URI;X-ADDRESS=Wilhelmshöhe\, Leutkirch\,
  Deutschland;X-APPLE-RADIUS=100;X-TITLE=Leutkirch Pavillon Wilhelmshöhe:g
 eo:47.826089,10.02785
END:VEVENT
BEGIN:VTIMEZONE
TZID:Europe/Berlin
X-LIC-LOCATION:Europe/Berlin
BEGIN:DAYLIGHT
DTSTART:20200329T030000
TZOFFSETFROM:+0100
TZOFFSETTO:+0200
TZNAME:CEST
END:DAYLIGHT
END:VTIMEZONE
END:VCALENDAR