BEGIN:VCALENDAR
VERSION:2.0
PRODID:-//wp-events-plugin.com//7.2.3.1//EN
TZID:Europe/Berlin
X-WR-TIMEZONE:Europe/Berlin
BEGIN:VEVENT
UID:694@qigong-im-allgaeu.de
DTSTART;TZID=Europe/Berlin;VALUE=DATE:20261128
DTEND;TZID=Europe/Berlin;VALUE=DATE:20261130
DTSTAMP:20250313T164721Z
URL:https://qigong-im-allgaeu.de/termine/we-7/
SUMMARY:WE 7
DESCRIPTION:♦ Spontanes Qigong (Zifagong) \n♦ "Weißer Kranich" (nach S
 hao Zhao Ming) \n♦ Möglichkeiten und Grenzen des Qigong und die eigenen
 \nGrenzen\, insbesondere auch beim Spontanen Qigong
CATEGORIES:Lehrerausbildung
LOCATION:Stiller Übungsraum Wangen\, Spinnereigarten 10\, Wangen\, 88239\,
  Deutschland
GEO:47.677589;9.821454
X-APPLE-STRUCTURED-LOCATION;VALUE=URI;X-ADDRESS=Spinnereigarten 10\, Wangen
 \, 88239\, Deutschland;X-APPLE-RADIUS=100;X-TITLE=Stiller Übungsraum Wang
 en:geo:47.677589,9.821454
END:VEVENT
BEGIN:VTIMEZONE
TZID:Europe/Berlin
X-LIC-LOCATION:Europe/Berlin
BEGIN:STANDARD
DTSTART:20261025T020000
TZOFFSETFROM:+0200
TZOFFSETTO:+0100
TZNAME:CET
END:STANDARD
END:VTIMEZONE
END:VCALENDAR