BEGIN:VCALENDAR
VERSION:2.0
PRODID:-//wp-events-plugin.com//7.2.3.1//EN
TZID:Europe/Berlin
X-WR-TIMEZONE:Europe/Berlin
BEGIN:VEVENT
UID:187@qigong-im-allgaeu.de
DTSTART;TZID=Europe/Berlin:20210509T110000
DTEND;TZID=Europe/Berlin:20210509T130000
DTSTAMP:20210429T141055Z
URL:https://qigong-im-allgaeu.de/termine/vertiefung-der-8-brokatuebungen-o
 nline/
SUMMARY:Vertiefung der 8 Brokatübungen - ONLINE
DESCRIPTION:Sonntags von 11 bis 13 Uhr - online - biete ich für 35 € an:
 \n\n9. Mai 21 - Vertiefung der 8 Brokatübungen (Methode der Chinese Healt
 h Qigong Assosiation)\n(Wenn ein zweiter Termin dazu gewünscht wird\, kö
 nnten wir den 16.5. oder 30. 5. dazunehmen)
CATEGORIES:einzel,EinzelFB
END:VEVENT
BEGIN:VTIMEZONE
TZID:Europe/Berlin
X-LIC-LOCATION:Europe/Berlin
BEGIN:DAYLIGHT
DTSTART:20210328T030000
TZOFFSETFROM:+0100
TZOFFSETTO:+0200
TZNAME:CEST
END:DAYLIGHT
END:VTIMEZONE
END:VCALENDAR