BEGIN:VCALENDAR
VERSION:2.0
PRODID:-//wp-events-plugin.com//7.2.3.1//EN
TZID:Europe/Berlin
X-WR-TIMEZONE:Europe/Berlin
BEGIN:VEVENT
UID:826@qigong-im-allgaeu.de
DTSTART;TZID=Europe/Berlin:20260207T100000
DTEND;TZID=Europe/Berlin:20260207T173000
DTSTAMP:20251230T143747Z
URL:https://qigong-im-allgaeu.de/termine/vertiefung-der-18-uebungen-des-ta
 iji-qigong/
SUMMARY:Vertiefung der 18 Übungen des Taiji Qigong
DESCRIPTION:Die Kenntnis der Übungsreihe wird vorausgesetzt.\n\nSa 10-17.3
 0 (6 Stunden Unterricht)\;\n85 € (Mitglieder der DQGG) - sonst 90 €
CATEGORIES:EinzelFB,Fortbildung
LOCATION:Stiller Übungsraum Wangen\, Spinnereigarten 10\, Wangen\, 88239\,
  Deutschland
GEO:47.677589;9.821454
X-APPLE-STRUCTURED-LOCATION;VALUE=URI;X-ADDRESS=Spinnereigarten 10\, Wangen
 \, 88239\, Deutschland;X-APPLE-RADIUS=100;X-TITLE=Stiller Übungsraum Wang
 en:geo:47.677589,9.821454
END:VEVENT
BEGIN:VTIMEZONE
TZID:Europe/Berlin
X-LIC-LOCATION:Europe/Berlin
BEGIN:STANDARD
DTSTART:20251026T020000
TZOFFSETFROM:+0200
TZOFFSETTO:+0100
TZNAME:CET
END:STANDARD
END:VTIMEZONE
END:VCALENDAR