BEGIN:VCALENDAR
VERSION:2.0
PRODID:-//wp-events-plugin.com//7.2.3.1//EN
TZID:Europe/Berlin
X-WR-TIMEZONE:Europe/Berlin
BEGIN:VEVENT
UID:834@qigong-im-allgaeu.de
DTSTART;TZID=Europe/Berlin;VALUE=DATE:20280708
DTEND;TZID=Europe/Berlin;VALUE=DATE:20280710
DTSTAMP:20260209T161656Z
URL:https://qigong-im-allgaeu.de/termine/traditionelle-chinesische-medizin
 -tcm-3-vitalsubstanzen-2/
SUMMARY:Traditionelle Chinesische Medizin (TCM) 3: Vitalsubstanzen
DESCRIPTION:\n 	Vitalsubstanzen\n 	Vertiefung Zangfu\, Organe in Ost und We
 st\n 	Einführung in die Diagnostik und Krankheitslehre der TCM\n 	Erkenne
 n von einzelnen Disharmoniemustern\, beispielhaft mögliche Behandlungsweg
 e\n 	Bedeutung im Qigong\, Betrrachten bekannter Übungen\n
CATEGORIES:Ausbildung 2026,TCM
LOCATION:Stiller Übungsraum Wangen\, Spinnereigarten 10\, Wangen\, 88239\,
  Deutschland
GEO:47.677589;9.821454
X-APPLE-STRUCTURED-LOCATION;VALUE=URI;X-ADDRESS=Spinnereigarten 10\, Wangen
 \, 88239\, Deutschland;X-APPLE-RADIUS=100;X-TITLE=Stiller Übungsraum Wang
 en:geo:47.677589,9.821454
END:VEVENT
BEGIN:VTIMEZONE
TZID:Europe/Berlin
X-LIC-LOCATION:Europe/Berlin
BEGIN:DAYLIGHT
DTSTART:20280326T030000
TZOFFSETFROM:+0100
TZOFFSETTO:+0200
TZNAME:CEST
END:DAYLIGHT
END:VTIMEZONE
END:VCALENDAR