BEGIN:VCALENDAR
VERSION:2.0
PRODID:-//wp-events-plugin.com//7.2.3.1//EN
TZID:Europe/Berlin
X-WR-TIMEZONE:Europe/Berlin
BEGIN:VEVENT
UID:37@qigong-im-allgaeu.de
DTSTART;TZID=Europe/Berlin;VALUE=DATE:20200509
DTEND;TZID=Europe/Berlin;VALUE=DATE:20200511
DTSTAMP:20180822T141929Z
URL:https://qigong-im-allgaeu.de/termine/traditionelle-chinesische-medizin
 -tcm-3-2/
SUMMARY:Traditionelle Chinesische Medizin (TCM) 3
DESCRIPTION:\n 	Vitalsubstanzen\n 	Vertiefung Zangfu\n 	Einführung in die 
 Diagnostik und Krankheitslehre der TCM\,\nErkennen von einzelnen Disharmon
 iemustern\, beispielhaft mögliche Behandlungswege\n 	Bedeutung im Qigong\
 , Betrrachten bekannter Übungen\n 	Vertiefen der Übungen und Inhalte der
  vorhergehenden TCM-WE\n
CATEGORIES:Ausbildung,TCM
LOCATION:VHS Leutkirch\, Untere Grabenstraße 11\, Leutkirch\, Baden-Württ
 emberg\, 88299\, Westallgäu\, Deutschland
GEO:47.8253101;10.021913600000062
X-APPLE-STRUCTURED-LOCATION;VALUE=URI;X-ADDRESS=Untere Grabenstraße 11\, L
 eutkirch\, Baden-Württemberg\, 88299\, Westallgäu\, Deutschland;X-APPLE-
 RADIUS=100;X-TITLE=VHS Leutkirch:geo:47.8253101,10.021913600000062
END:VEVENT
BEGIN:VTIMEZONE
TZID:Europe/Berlin
X-LIC-LOCATION:Europe/Berlin
BEGIN:DAYLIGHT
DTSTART:20200329T030000
TZOFFSETFROM:+0100
TZOFFSETTO:+0200
TZNAME:CEST
END:DAYLIGHT
END:VTIMEZONE
END:VCALENDAR