BEGIN:VCALENDAR
VERSION:2.0
PRODID:-//wp-events-plugin.com//7.2.3.1//EN
TZID:Europe/Berlin
X-WR-TIMEZONE:Europe/Berlin
BEGIN:VEVENT
UID:64@qigong-im-allgaeu.de
DTSTART;TZID=Europe/Berlin;VALUE=DATE:20211204
DTEND;TZID=Europe/Berlin;VALUE=DATE:20211206
DTSTAMP:20210609T155604Z
URL:https://qigong-im-allgaeu.de/termine/traditionelle-chinesische-medizin
 -tcm-1/
SUMMARY:Traditionelle Chinesische Medizin (TCM) 1: Meridiane / Yin-Yang
DESCRIPTION:\n 	Einführung und Überblick Traditionelle Chinesische Medizi
 n\n 	Yin und Yang\n 	Leitbahn-(Meridian-)Lehre\n 	Lage ausgewählter Akupu
 nktur-Punkte\n 	Meridian-Übungen (Dehnungsübungen\, Selbstmassagen)\n 	V
 ertiefung Dantian-Übungen\n
CATEGORIES:Ausbildung 2021,TCM
LOCATION:VHS Leutkirch\, Untere Grabenstraße 11\, Leutkirch\, Baden-Württ
 emberg\, 88299\, Westallgäu\, Deutschland
GEO:47.8253101;10.021913600000062
X-APPLE-STRUCTURED-LOCATION;VALUE=URI;X-ADDRESS=Untere Grabenstraße 11\, L
 eutkirch\, Baden-Württemberg\, 88299\, Westallgäu\, Deutschland;X-APPLE-
 RADIUS=100;X-TITLE=VHS Leutkirch:geo:47.8253101,10.021913600000062
END:VEVENT
BEGIN:VTIMEZONE
TZID:Europe/Berlin
X-LIC-LOCATION:Europe/Berlin
BEGIN:STANDARD
DTSTART:20211031T020000
TZOFFSETFROM:+0200
TZOFFSETTO:+0100
TZNAME:CET
END:STANDARD
END:VTIMEZONE
END:VCALENDAR