BEGIN:VCALENDAR
VERSION:2.0
PRODID:-//wp-events-plugin.com//7.2.3.1//EN
TZID:Europe/Berlin
X-WR-TIMEZONE:Europe/Berlin
BEGIN:VEVENT
UID:203@qigong-im-allgaeu.de
DTSTART;TZID=Europe/Berlin:20220130T103000
DTEND;TZID=Europe/Berlin:20220130T130000
DTSTAMP:20220110T112419Z
URL:https://qigong-im-allgaeu.de/termine/stressmanagement-mit-bezug-zu-nie
 re-und-blase-online/
SUMMARY:Stressmanagement mit Bezug zu Niere und Blase - ONLINE
DESCRIPTION:Stressmanagement ist für viele Teilnehmer ein Beweggrund\, Qig
 ong zu üben und Qigong ist hier ein wirksamer Weg.\n\nNeben den allgemein
 en\, qigongspezifischen Eigenschaften betrachten wir in dieser online-Reih
 e\, welche Aspekte die einzelnen Funktionskreise dazu beitragen. Vor diese
 m Hintergrund und zur praktischen Umsetzung schauen wir uns Übungen dazu 
 an.\n\nVerhältnis Theorie/Praxis: 50/50\n\nSonntags von 10.30 bis 13.00 U
 hr - online\n\n35 €
CATEGORIES:einzel,EinzelFB,Fortbildung
END:VEVENT
BEGIN:VTIMEZONE
TZID:Europe/Berlin
X-LIC-LOCATION:Europe/Berlin
BEGIN:STANDARD
DTSTART:20211031T020000
TZOFFSETFROM:+0200
TZOFFSETTO:+0100
TZNAME:CET
END:STANDARD
END:VTIMEZONE
END:VCALENDAR