BEGIN:VCALENDAR
VERSION:2.0
PRODID:-//wp-events-plugin.com//7.2.3.1//EN
TZID:Europe/Berlin
X-WR-TIMEZONE:Europe/Berlin
BEGIN:VEVENT
UID:356@qigong-im-allgaeu.de
DTSTART;TZID=Europe/Berlin:20230327T211500
DTEND;TZID=Europe/Berlin:20230327T214500
DTSTAMP:20230119T122156Z
URL:https://qigong-im-allgaeu.de/termine/qigong-vorm-schlafengehen-4-2023-
 03-27/
SUMMARY:Qigong vorm Schlafengehen
DESCRIPTION:5mal ab 27. Februar 2023\, 25 €
CATEGORIES:fortlaufend
LOCATION:ONLINE\, via ZOOM\, D\, A\, CH\, Deutschland
X-APPLE-STRUCTURED-LOCATION;VALUE=URI;X-ADDRESS=via ZOOM\, D\, A\, CH\, Deu
 tschland;X-APPLE-RADIUS=100;X-TITLE=ONLINE:geo:0,0
END:VEVENT
BEGIN:VTIMEZONE
TZID:Europe/Berlin
X-LIC-LOCATION:Europe/Berlin
BEGIN:DAYLIGHT
DTSTART:20230326T030000
TZOFFSETFROM:+0100
TZOFFSETTO:+0200
TZNAME:CEST
END:DAYLIGHT
END:VTIMEZONE
END:VCALENDAR