BEGIN:VCALENDAR
VERSION:2.0
PRODID:-//wp-events-plugin.com//7.2.3.1//EN
TZID:Europe/Berlin
X-WR-TIMEZONE:Europe/Berlin
BEGIN:VEVENT
UID:199@qigong-im-allgaeu.de
DTSTART;TZID=Europe/Berlin:20220124T210000
DTEND;TZID=Europe/Berlin:20220124T214500
DTSTAMP:20220110T110319Z
URL:https://qigong-im-allgaeu.de/termine/qigong-vorm-schlafengehen-2022-01
 -24/
SUMMARY:Qigong vorm Schlafengehen
DESCRIPTION:6mal ab 10. Jan. 2022\, 30 €
CATEGORIES:fortlaufend
END:VEVENT
BEGIN:VTIMEZONE
TZID:Europe/Berlin
X-LIC-LOCATION:Europe/Berlin
BEGIN:STANDARD
DTSTART:20211031T020000
TZOFFSETFROM:+0200
TZOFFSETTO:+0100
TZNAME:CET
END:STANDARD
END:VTIMEZONE
END:VCALENDAR