BEGIN:VCALENDAR
VERSION:2.0
PRODID:-//wp-events-plugin.com//7.2.3.1//EN
TZID:Europe/Berlin
X-WR-TIMEZONE:Europe/Berlin
BEGIN:VEVENT
UID:464@qigong-im-allgaeu.de
DTSTART;TZID=Europe/Berlin;VALUE=DATE:20260117
DTEND;TZID=Europe/Berlin;VALUE=DATE:20260119
DTSTAMP:20231125T161309Z
URL:https://qigong-im-allgaeu.de/termine/qigong-und-gesundheit-2/
SUMMARY:Qigong und Gesundheit
DESCRIPTION:\n 	Gesundheit\, Krankheit\, Prävention\n 	Regelsysteme des K
 örpers: Neuroendokrinologie und Psychoimmunologie\n 	Anpassung der Übung
 en an die TN\n 	Einführung in das Qigong-Gehen\n
CATEGORIES:Ausbildung 2024,Grundlagen
LOCATION:Stiller Übungsraum Wangen\, Spinnereigarten 10\, Wangen\, 88239\,
  Deutschland
GEO:47.677589;9.821454
X-APPLE-STRUCTURED-LOCATION;VALUE=URI;X-ADDRESS=Spinnereigarten 10\, Wangen
 \, 88239\, Deutschland;X-APPLE-RADIUS=100;X-TITLE=Stiller Übungsraum Wang
 en:geo:47.677589,9.821454
END:VEVENT
BEGIN:VTIMEZONE
TZID:Europe/Berlin
X-LIC-LOCATION:Europe/Berlin
BEGIN:STANDARD
DTSTART:20251026T020000
TZOFFSETFROM:+0200
TZOFFSETTO:+0100
TZNAME:CET
END:STANDARD
END:VTIMEZONE
END:VCALENDAR