BEGIN:VCALENDAR
VERSION:2.0
PRODID:-//wp-events-plugin.com//7.2.3.1//EN
TZID:Europe/Berlin
X-WR-TIMEZONE:Europe/Berlin
BEGIN:VEVENT
UID:836@qigong-im-allgaeu.de
DTSTART;TZID=Europe/Berlin;VALUE=DATE:20270116
DTEND;TZID=Europe/Berlin;VALUE=DATE:20270118
DTSTAMP:20260209T163113Z
URL:https://qigong-im-allgaeu.de/termine/qigong-und-atmung-2/
SUMMARY:Qigong und  Atmung
DESCRIPTION:\n 	Atmungssystem\, Kreislaufsystem\, Umgang mit Notfällen\n 	
 Atem im Qigong - Einfluss auf Haltung und Bewegung\n 	Aufmerksamkeit\, Vor
 stellungskraft im Qigong\n 	Vertiefung Dantian\n 	Dantian-Übungen (eine k
 leine Reihe von 6 Übungen)\n 	Vertiefung Schwimmender Drache\n
CATEGORIES:Ausbildung 2026,Grundlagen
LOCATION:Stiller Übungsraum Wangen\, Spinnereigarten 10\, Wangen\, 88239\,
  Deutschland
GEO:47.677589;9.821454
X-APPLE-STRUCTURED-LOCATION;VALUE=URI;X-ADDRESS=Spinnereigarten 10\, Wangen
 \, 88239\, Deutschland;X-APPLE-RADIUS=100;X-TITLE=Stiller Übungsraum Wang
 en:geo:47.677589,9.821454
END:VEVENT
BEGIN:VTIMEZONE
TZID:Europe/Berlin
X-LIC-LOCATION:Europe/Berlin
BEGIN:STANDARD
DTSTART:20261025T020000
TZOFFSETFROM:+0200
TZOFFSETTO:+0100
TZNAME:CET
END:STANDARD
END:VTIMEZONE
END:VCALENDAR