BEGIN:VCALENDAR
VERSION:2.0
PRODID:-//wp-events-plugin.com//7.2.3.1//EN
TZID:Europe/Berlin
X-WR-TIMEZONE:Europe/Berlin
BEGIN:VEVENT
UID:81@qigong-im-allgaeu.de
DTSTART;TZID=Europe/Berlin:20200903T170000
DTEND;TZID=Europe/Berlin:20200910T100000
DTSTAMP:20200831T185919Z
URL:https://qigong-im-allgaeu.de/termine/qigong-meets-wildpflanzen-das-her
 z-heilen-und-die-mitte-staerken/
SUMMARY:Qigong meets Wildpflanzen – Das Herz heilen und die Mitte stärke
 n
DESCRIPTION:\nQGmWP-Sommer2020-Wangen2\nVeränderung in der Kursgestaltung!
 !!\nAufgrund der Corona-Maßnahmen können wir zur Zeit die Bungalows nich
 t wie vorgesehen belegen. In der Folge findet der Kurs jetzt ohne gemeinsa
 me Übernachtung in Wangen im Allgäu statt.\nHeike Engel ist diesmal nich
 t mit dabei - dadurch verändert sich der Wildpflanzen-Anteil des Kurses. 
 Wir können die Pflanzen betrachten\, erkennen\, uns hineinfühlen\, sie d
 er Thematik zuordnen - die Zubereitung entfällt jedoch. \nAnsonsten plane
  ich den Inhalt wie bisher beschrieben.\n\nThemenschwerpunkte sind:\n\n 	d
 ie Wandlungsphasen Feuer und Erde\;\n 	die geistigen Aspekte "shen" und "y
 i"\;\n 	die Funktionskreise Herz\, Dünndarm\, Kreislauf\, dreifacher Erw
 ärmer\, Milz\, Magen\;\n 	Pflanzen finden\, erkennen\, sammeln und verwen
 den\;\n 	Feuer-/Erde-bezogene Rituale.\n\nDas Praktische wird im Kurs übe
 rwiegen und wir werden 2 freie Tage zur individuellen Verwendung (wandern\
 , faulenzen\, schwimmen o.ä.) einplanen.\nDazu üben wir kleine\, passend
 e Qigong-Übungen\, Experimentieren zum Erfahren der Themen\, sammeln\, ve
 rarbeiten und genießen Wildpflanzen\, können zusammensitzen\, singen\, t
 rommeln\, tanzen oder still sein und auf Wanderungen in der Umgebung die N
 atur wahrnehmen. Die bergige Umgebung bietet dafür vielfältige Möglichk
 eiten.\n\n[supsystic-gallery id=3 position=center]\n\nVon den 35 UE bezieh
 en sich 25 auf Qigong-Themen in Theorie und Praxis. Wir werden Themen-bezo
 gen verschiedene - bewegte und stille -  kleine Übungen üben und Anteil
 e aus Übungssystemen wie Qigong-Gehen\, 5-Organe-Qigong\, Heilende Laute 
 sowie herzbezogene Übungen im Sitzen. Zum Abrunden üben wir die Wandlung
 sphasen-Übung.\nDer Unterricht wird so gestaltet\, dass sowohl Fortgeschr
 ittene\, als auch Anfänger (jeder in seiner Weise) davon profitieren kön
 nen. Das heißt nicht\, dass von Qigong-Anfängern später alle Übungen b
 eherrscht werden. Sie dienen z.T. dann nur zum Erleben in der Situation un
 d für Fortgeschrittene zum Erfassen der Themen-bezogenen Merkmale.\n\nZei
 t: Der Unterricht beginnt am Do. 3.September 2020 um 17 Uhr und endet mit 
 etwa 35 UE am Mi. 9. September um 16.00 Uhr.\nDie Häuser werden von uns 
  bis 10. September gemietet. Das hat sich bewährt\, damit sie nicht noc
 h während des Kurses geräumt werden müssen - und wir benötigen auch am
  letzten Tag noch eine Küche.\nWenn Ihr bereits am 9. 9. abreisen wollt\,
  gebt uns das bitte bei der Anmeldung mit an\, damit wir entsprechend weni
 ger Häuser für die letzte Nacht behalten. \n\nKosten: 350 € Mitglieder
  der DQGG\, 375 € für Nichtmitglieder zzgl. Übernachtung und Verpflegu
 ng\nDie Kosten für die Übernachtung sind abhängig von der Belegung der 
 Bungalows\, die wir anmieten und werden etwa im Bereich von 180 bis 230 
 € pro Woche und Person liegen. Hieraus ergibt sich auch\, wie viel TN al
 lein ein Zimmer belegen können und wie viel in ein Doppelzimmer gehen. Ge
 bt auch hier bitte Eure Wünsche an - verbunden mit der Bereitschaft für 
 einen ggf. etwas höheren Preis.\nDazu kommen Verpflegungskosten\, die dan
 ach variieren\, wie viel wir gemeinsam zubereiten\, wie viel Ihr mitbringt
  und wie oft wir dazwischen auch essen gehen. Dies gestaltet sich nach Bed
 arf der Gruppe.\n\nOrt: Maierhöfen-Stockach\, GEW Feriendorf\n\nAnmeldesc
 hluss: 31. Mai 2020\n\nAnmeldung und weitere Information:\nHeike Seeberge
 r\, Tel. 07522-9757959\, info@qigong-im-allgaeu.de\nHeike Engel\, 07181/ 9
 210830\, info@strahlemensch.de
ATTACH;FMTTYPE=image/jpeg:https://qigong-im-allgaeu.de/wp-content/uploads/
 2018/09/DSC_3277.jpg
CATEGORIES:einzel,Fortbildung,Jahresreihe
LOCATION:GEW Ferienclub Maierhöfen-Stockach\, Stockach 1\, Maierhöfen\, 8
 8167\, Allgäu\, Deutschland
GEO:47.65071;10.069248
X-APPLE-STRUCTURED-LOCATION;VALUE=URI;X-ADDRESS=Stockach 1\, Maierhöfen\, 
 88167\, Allgäu\, Deutschland;X-APPLE-RADIUS=100;X-TITLE=GEW Ferienclub Ma
 ierhöfen-Stockach:geo:47.65071,10.069248
END:VEVENT
BEGIN:VTIMEZONE
TZID:Europe/Berlin
X-LIC-LOCATION:Europe/Berlin
BEGIN:DAYLIGHT
DTSTART:20200329T030000
TZOFFSETFROM:+0100
TZOFFSETTO:+0200
TZNAME:CEST
END:DAYLIGHT
END:VTIMEZONE
END:VCALENDAR