BEGIN:VCALENDAR
VERSION:2.0
PRODID:-//wp-events-plugin.com//7.2.3.1//EN
TZID:Europe/Berlin
X-WR-TIMEZONE:Europe/Berlin
BEGIN:VEVENT
UID:719@qigong-im-allgaeu.de
DTSTART;TZID=Europe/Berlin:20251216T100000
DTEND;TZID=Europe/Berlin:20251216T110000
DTSTAMP:20250826T135219Z
URL:https://qigong-im-allgaeu.de/termine/qigong-in-den-wilden-gaerten-der-
 argenwiese-2025-12-16/
SUMMARY:Qigong in den „Wilden Gärten“ der Argenwiese
DESCRIPTION:dienstags ab 23.9.2025 - 10.00 bis 11.00 Uhr - 10 € pro Termi
 n\nWir üben kleine Übungen und Qigong-Gehen nach Bedarf der Anwesenden.\
 nDer genaue Treffpunkt wird kurzfristig abgesprochen - bei schlechtem Wett
 er nach Vereinbarung im Übungsraum.\nNeueinstieg jeweils am 1. Dienstag d
 es Monats nach vorheriger Absprache
CATEGORIES:fortlaufend
LOCATION:„Wilde Gärten“ der Argenwiese\, Argenwiese\, Wangen im Allgau
 \, 88239\, Deutschland
X-APPLE-STRUCTURED-LOCATION;VALUE=URI;X-ADDRESS=Argenwiese\, Wangen im Allg
 au\, 88239\, Deutschland;X-APPLE-RADIUS=100;X-TITLE=„Wilde Gärten“ de
 r Argenwiese:geo:0,0
END:VEVENT
BEGIN:VTIMEZONE
TZID:Europe/Berlin
X-LIC-LOCATION:Europe/Berlin
BEGIN:STANDARD
DTSTART:20251026T020000
TZOFFSETFROM:+0200
TZOFFSETTO:+0100
TZNAME:CET
END:STANDARD
END:VTIMEZONE
END:VCALENDAR