BEGIN:VCALENDAR
VERSION:2.0
PRODID:-//wp-events-plugin.com//7.2.3.1//EN
TZID:Europe/Berlin
X-WR-TIMEZONE:Europe/Berlin
BEGIN:VEVENT
UID:179@qigong-im-allgaeu.de
DTSTART;TZID=Europe/Berlin:20210417T093000
DTEND;TZID=Europe/Berlin:20210417T170000
DTSTAMP:20210211T155553Z
URL:https://qigong-im-allgaeu.de/termine/qigong-im-lauf-der-wandlungsphase
 n/
SUMMARY:Qigong im Lauf der Wandlungsphasen
DESCRIPTION:Wir lernen und üben eine in sich geschlossene\, harmonisierend
 e Bewegungsübung\, mit der wir die Energiequalitäten der Wandlungsphasen
  ausgleichen. Die einzelnen Qualitäten und auch die Beziehungen untereina
 nder lernen wir dabei kennen\, wobei an diesem Tag besonders das "Holz" (W
 achstumsenergie) im Blickfeld steht.\nBei passendem Wetter üben wir im Fr
 eien.\n\nAnmeldung VHS Leutkirch
CATEGORIES:einzel,EinzelFB,VHS
LOCATION:VHS Leutkirch\, Untere Grabenstraße 11\, Leutkirch\, Baden-Württ
 emberg\, 88299\, Westallgäu\, Deutschland
GEO:47.8253101;10.021913600000062
X-APPLE-STRUCTURED-LOCATION;VALUE=URI;X-ADDRESS=Untere Grabenstraße 11\, L
 eutkirch\, Baden-Württemberg\, 88299\, Westallgäu\, Deutschland;X-APPLE-
 RADIUS=100;X-TITLE=VHS Leutkirch:geo:47.8253101,10.021913600000062
END:VEVENT
BEGIN:VTIMEZONE
TZID:Europe/Berlin
X-LIC-LOCATION:Europe/Berlin
BEGIN:DAYLIGHT
DTSTART:20210328T030000
TZOFFSETFROM:+0100
TZOFFSETTO:+0200
TZNAME:CEST
END:DAYLIGHT
END:VTIMEZONE
END:VCALENDAR