BEGIN:VCALENDAR
VERSION:2.0
PRODID:-//wp-events-plugin.com//7.2.3.1//EN
TZID:Europe/Berlin
X-WR-TIMEZONE:Europe/Berlin
BEGIN:VEVENT
UID:563@qigong-im-allgaeu.de
DTSTART;TZID=Europe/Berlin:20241217T100000
DTEND;TZID=Europe/Berlin:20241217T110000
DTSTAMP:20241105T140312Z
URL:https://qigong-im-allgaeu.de/termine/qigong-im-freien-2024-12-17/
SUMMARY:Qigong im Freien
DESCRIPTION:Treffpunkt  im LGS-Gelände (vorher telefonisch informieren\, 
 da Gelände teilweise noch abgesperrt!)\nKleine Übungen und Qigong-Gehen\
 n&nbsp\;\n\nOffene Gruppe\, Teilnahme jederzeit möglich.\n\nKosten:\n\n10
  € pro Termin oder 90 € für alle 10 Termine
CATEGORIES:fortlaufend,Qigong-Gehen
LOCATION:Spinnereigarten\, Spinnereigarten\, Wangen\, 88239\, Deutschland
X-APPLE-STRUCTURED-LOCATION;VALUE=URI;X-ADDRESS=Spinnereigarten\, Wangen\, 
 88239\, Deutschland;X-APPLE-RADIUS=100;X-TITLE=Spinnereigarten:geo:0,0
END:VEVENT
BEGIN:VTIMEZONE
TZID:Europe/Berlin
X-LIC-LOCATION:Europe/Berlin
BEGIN:STANDARD
DTSTART:20241027T020000
TZOFFSETFROM:+0200
TZOFFSETTO:+0100
TZNAME:CET
END:STANDARD
END:VTIMEZONE
END:VCALENDAR