BEGIN:VCALENDAR
VERSION:2.0
PRODID:-//wp-events-plugin.com//7.2.3.1//EN
TZID:Europe/Berlin
X-WR-TIMEZONE:Europe/Berlin
BEGIN:VEVENT
UID:171@qigong-im-allgaeu.de
DTSTART;TZID=Europe/Berlin:20200915T093000
DTEND;TZID=Europe/Berlin:20200915T103000
DTSTAMP:20200913T145402Z
URL:https://qigong-im-allgaeu.de/termine/qigong-gehen-und-kleine-uebungen-
 3-2020-09-15/
SUMMARY:Qigong-Gehen und kleine Übungen
DESCRIPTION:Qigong-Gehen ist eine langsame Geh-Methode\, die mit gleichmä
 ßig fließenden Bewegungen Gesundheit\, Harmonie und Entspannung fördert
  und in die Ruhe führt. Kleine\, in sich abgeschlossene Qigong-Übungen e
 rgänzen das Programm zur Atemregulierung\, Harmonisierung und zum Energie
  sammeln. Sie sind einfach auszuführen und können doch tief wirken.\n\nB
 itte mitbringen: Wetter-angepasste Kleidung\, bequeme Schuhe\n\nAnmeldung 
 über die VHS Wangen\, Tel. 0752274242 Kurs-Nr. 30188-202
CATEGORIES:fortlaufend
LOCATION:Stadtgarten / Alter Friedhof\, Alter Friedhof Lindauer Straße\, W
 angen\, Deutschland
GEO:47.686349;9.831066
X-APPLE-STRUCTURED-LOCATION;VALUE=URI;X-ADDRESS=Alter Friedhof Lindauer Str
 aße\, Wangen\, Deutschland;X-APPLE-RADIUS=100;X-TITLE=Stadtgarten / Alter
  Friedhof:geo:47.686349,9.831066
END:VEVENT
BEGIN:VTIMEZONE
TZID:Europe/Berlin
X-LIC-LOCATION:Europe/Berlin
BEGIN:DAYLIGHT
DTSTART:20200329T030000
TZOFFSETFROM:+0100
TZOFFSETTO:+0200
TZNAME:CEST
END:DAYLIGHT
END:VTIMEZONE
END:VCALENDAR