BEGIN:VCALENDAR
VERSION:2.0
PRODID:-//wp-events-plugin.com//7.2.3.1//EN
TZID:Europe/Berlin
X-WR-TIMEZONE:Europe/Berlin
BEGIN:VEVENT
UID:403@qigong-im-allgaeu.de
DTSTART;TZID=Europe/Berlin:20230919T180000
DTEND;TZID=Europe/Berlin:20230919T190000
DTSTAMP:20230724T105536Z
URL:https://qigong-im-allgaeu.de/termine/qigong-die-8-brokatuebungen-2023-
 09-19/
SUMMARY:Qigong - die 8 Brokatübungen (Baduanjin)
DESCRIPTION:Die Bewegungen der 8 Brokatübungen (Baduanjin) helfen zur Entw
 icklung von Stabilität\, innerer Kraft und Ruhe. Die stabilisierende\, st
 ärkende Wirkung bezieht sich nicht nur auf die Glieder sondern auch auf d
 ie inneren Organe\, psychische und mentale Funktionen. Lebenskraft und Leb
 ensfreude erhöhen sich und die Grundlage für ein entspannteres und kraft
 volleres Leben wird damit gelegt. Sie stärken damit die Resilienz und erh
 öhen die Fähigkeit\, den Berufs- und Familienalltag stressreduziert zu g
 estalten.\nDie Übungen sind klar strukturiert und leicht zu erlernen.\nDi
 e Übungsreihe ist schon recht alt\, wurde über die Jahrhunderte hinweg v
 on vielen Menschen geübt\, verfeinert und in neuerer Zeit auch wissenscha
 ftlich untersucht. Ich unterrichte in diesem Kurs die Methode der „Chine
 se Health Qigong Association“.\nKosten: 100 € (10 Termine)\n\nDer Kurs
  ist von den Krankenkassen zertifiziert\, sie übernehmen also ggf. einen 
 Teil der Kosten
CATEGORIES:fortlaufend,Längere Übungsreihen,ZPP zertifiziert
LOCATION:Stiller Übungsraum Wangen\, Spinnereigarten 10\, Wangen\, 88239\,
  Deutschland
GEO:47.677589;9.821454
X-APPLE-STRUCTURED-LOCATION;VALUE=URI;X-ADDRESS=Spinnereigarten 10\, Wangen
 \, 88239\, Deutschland;X-APPLE-RADIUS=100;X-TITLE=Stiller Übungsraum Wang
 en:geo:47.677589,9.821454
END:VEVENT
BEGIN:VTIMEZONE
TZID:Europe/Berlin
X-LIC-LOCATION:Europe/Berlin
BEGIN:DAYLIGHT
DTSTART:20230326T030000
TZOFFSETFROM:+0100
TZOFFSETTO:+0200
TZNAME:CEST
END:DAYLIGHT
END:VTIMEZONE
END:VCALENDAR