BEGIN:VCALENDAR
VERSION:2.0
PRODID:-//wp-events-plugin.com//7.2.3.1//EN
TZID:Europe/Berlin
X-WR-TIMEZONE:Europe/Berlin
BEGIN:VEVENT
UID:67@qigong-im-allgaeu.de
DTSTART;TZID=Europe/Berlin;VALUE=DATE:20220625
DTEND;TZID=Europe/Berlin;VALUE=DATE:20220627
DTSTAMP:20220503T150727Z
URL:https://qigong-im-allgaeu.de/termine/paedagogik-didaktik-1/
SUMMARY:Pädagogik / Didaktik 1
DESCRIPTION:\n 	Erwachsenenbildung und lebenslanges Lernen\n 	Didaktik und 
 Methodik des QG-Unterrichtens\n 	Kursgestaltung\, Yin und Yang im Unterric
 ht\n 	Korrekturen\, Umgang mit schwierigen Situationen\n 	Praxis des Anlei
 tens (eigene Unterrichtsversuche)\n 	Salutogenese\n
CATEGORIES:Ausbildung 2021,Pädagogik/Didaktik
LOCATION:VHS Leutkirch\, Untere Grabenstraße 11\, Leutkirch\, Baden-Württ
 emberg\, 88299\, Westallgäu\, Deutschland
GEO:47.8253101;10.021913600000062
X-APPLE-STRUCTURED-LOCATION;VALUE=URI;X-ADDRESS=Untere Grabenstraße 11\, L
 eutkirch\, Baden-Württemberg\, 88299\, Westallgäu\, Deutschland;X-APPLE-
 RADIUS=100;X-TITLE=VHS Leutkirch:geo:47.8253101,10.021913600000062
END:VEVENT
BEGIN:VTIMEZONE
TZID:Europe/Berlin
X-LIC-LOCATION:Europe/Berlin
BEGIN:DAYLIGHT
DTSTART:20220327T030000
TZOFFSETFROM:+0100
TZOFFSETTO:+0200
TZNAME:CEST
END:DAYLIGHT
END:VTIMEZONE
END:VCALENDAR