BEGIN:VCALENDAR
VERSION:2.0
PRODID:-//wp-events-plugin.com//7.2.3.1//EN
TZID:Europe/Berlin
X-WR-TIMEZONE:Europe/Berlin
BEGIN:VEVENT
UID:170@qigong-im-allgaeu.de
DTSTART;TZID=Europe/Berlin:20201017T093000
DTEND;TZID=Europe/Berlin:20201017T170000
DTSTAMP:20200926T183431Z
URL:https://qigong-im-allgaeu.de/termine/lunge-im-zyklus-der-wandlungsphas
 en/
SUMMARY:Lunge im Zyklus der Wandlungsphasen
DESCRIPTION:Wie kann ich mit Qigong Inspiration und Loslassen unterstützen
 ? Dafür schauen wir uns "Metall" mit den Beziehungen im Wandlungsphasensy
 stem an und beziehen auch die körperliche Seite von Atmung und Immunsyste
 m mit ein. Der Kurs ist unterteilt in Theorie (ca. 30 %) und Qigong-Übung
 en (70 %)\n\nBitte mitbringen: bequeme Kleidung\, Decke\, Sitzkissen o. ä
 .\n\nAnmeldung über die VHS Wangen\, Tel. 0752274242 Kurs-Nr. 30192-202
CATEGORIES:einzel,EinzelFB,Fortbildung,VHS
LOCATION:Häge-Schmiede\, Im Giebel\, 2. OG\, Zunfthausgasse 9/1\, Wangen\,
  Deutschland
GEO:47.687798;9.834307
X-APPLE-STRUCTURED-LOCATION;VALUE=URI;X-ADDRESS=Zunfthausgasse 9/1\, Wangen
 \, Deutschland;X-APPLE-RADIUS=100;X-TITLE=Häge-Schmiede\, Im Giebel\, 2. 
 OG:geo:47.687798,9.834307
END:VEVENT
BEGIN:VTIMEZONE
TZID:Europe/Berlin
X-LIC-LOCATION:Europe/Berlin
BEGIN:DAYLIGHT
DTSTART:20200329T030000
TZOFFSETFROM:+0100
TZOFFSETTO:+0200
TZNAME:CEST
END:DAYLIGHT
END:VTIMEZONE
END:VCALENDAR