BEGIN:VCALENDAR
VERSION:2.0
PRODID:-//wp-events-plugin.com//7.2.3.1//EN
TZID:Europe/Berlin
X-WR-TIMEZONE:Europe/Berlin
BEGIN:VEVENT
UID:547@qigong-im-allgaeu.de
DTSTART;TZID=Europe/Berlin:20240322T190000
DTEND;TZID=Europe/Berlin:20240322T203000
DTSTAMP:20240204T220950Z
URL:https://qigong-im-allgaeu.de/termine/infoabend-zur-neuen-kursleiteraus
 bildung/
SUMMARY:Infoabend zur neuen Kursleiterausbildung
DESCRIPTION:Sie möchten mehr über unsere nächste Ausbildung erfahren und
  uns persönlich kennenlernen? Nutzen Sie die Gelegenheit und besuchen Sie
  uns am 22. März 2024\, 19.00 - 20.30 Uhr im Stillen Übungsraum von wohn
 en+ im Spinnereigarten 10\, 88239 Wangen im Allgäu.\n\nBitte telefonisch 
 (07522 9757959) oder per Mail anmelden!
CATEGORIES:Ausbildung 2024
LOCATION:Stiller Übungsraum Wangen\, Spinnereigarten 10\, Wangen\, 88239\,
  Deutschland
GEO:47.677589;9.821454
X-APPLE-STRUCTURED-LOCATION;VALUE=URI;X-ADDRESS=Spinnereigarten 10\, Wangen
 \, 88239\, Deutschland;X-APPLE-RADIUS=100;X-TITLE=Stiller Übungsraum Wang
 en:geo:47.677589,9.821454
END:VEVENT
BEGIN:VTIMEZONE
TZID:Europe/Berlin
X-LIC-LOCATION:Europe/Berlin
BEGIN:STANDARD
DTSTART:20231029T020000
TZOFFSETFROM:+0200
TZOFFSETTO:+0100
TZNAME:CET
END:STANDARD
END:VTIMEZONE
END:VCALENDAR