BEGIN:VCALENDAR
VERSION:2.0
PRODID:-//wp-events-plugin.com//7.2.3.1//EN
TZID:Europe/Berlin
X-WR-TIMEZONE:Europe/Berlin
BEGIN:VEVENT
UID:69@qigong-im-allgaeu.de
DTSTART;TZID=Europe/Berlin;VALUE=DATE:20221203
DTEND;TZID=Europe/Berlin;VALUE=DATE:20221205
DTSTAMP:20210609T160252Z
URL:https://qigong-im-allgaeu.de/termine/grundlagen-4/
SUMMARY:Praktische Philosophie - Himmel-Erde-Mensch
DESCRIPTION:\n 	Übungsreihe Verbindung zu Himmel und Erde (Tong Tian Guan 
 Di Gong)\n 	Betrachtung der Zusammenhängen von Himmel\, Erde\, Mensch\n 	
 natürliches/erworbenes Bewusstsein und Bedeutung für das Qigong\n 	Einf
 ührung in das Qigong-Gehen\n 	„3 Schätze“ (Jing - Qi - Shen) und Bod
 y-Mind\n
CATEGORIES:Ausbildung 2021,Grundlagen
LOCATION:VHS Leutkirch\, Untere Grabenstraße 11\, Leutkirch\, Baden-Württ
 emberg\, 88299\, Westallgäu\, Deutschland
GEO:47.8253101;10.021913600000062
X-APPLE-STRUCTURED-LOCATION;VALUE=URI;X-ADDRESS=Untere Grabenstraße 11\, L
 eutkirch\, Baden-Württemberg\, 88299\, Westallgäu\, Deutschland;X-APPLE-
 RADIUS=100;X-TITLE=VHS Leutkirch:geo:47.8253101,10.021913600000062
END:VEVENT
BEGIN:VTIMEZONE
TZID:Europe/Berlin
X-LIC-LOCATION:Europe/Berlin
BEGIN:STANDARD
DTSTART:20221030T020000
TZOFFSETFROM:+0200
TZOFFSETTO:+0100
TZNAME:CET
END:STANDARD
END:VTIMEZONE
END:VCALENDAR