BEGIN:VCALENDAR
VERSION:2.0
PRODID:-//wp-events-plugin.com//7.2.3.1//EN
TZID:Europe/Berlin
X-WR-TIMEZONE:Europe/Berlin
BEGIN:VEVENT
UID:245@qigong-im-allgaeu.de
DTSTART;TZID=Europe/Berlin:20221112T093000
DTEND;TZID=Europe/Berlin:20221112T170000
DTSTAMP:20220916T183652Z
URL:https://qigong-im-allgaeu.de/termine/die-8-ausserordentlichen-gefaesse
 /
SUMMARY:Die 8 außerordentlichen Gefäße
DESCRIPTION:Mit Renmai\, Dumai\, Chongmai\, Daimai (Lenker-\, Konzeptions-\
 , Durchdringungs- und Gürtelgefäß) gehen wir im Qigong oft um - Yin- un
 d Yangweimai (Bewahrer des Yin\, des Yang)\, Yin- und Yangqiaomai (Yin- un
 d Yang-Fersengefäß) sind in der Regel weniger geläufig. Wir schauen uns
  Verläufe\, Einflussbereiche\, Bedeutung und Funktionen an und üben geei
 gnete Übungen dazu.\n\nKosten: 80 € für Mitglieder der DQGG\, sonst 90
  €
CATEGORIES:EinzelFB,Fortbildung
LOCATION:Stiller Übungsraum Wangen\, Spinnereigarten 10\, Wangen\, 88239\,
  Deutschland
GEO:47.677589;9.821454
X-APPLE-STRUCTURED-LOCATION;VALUE=URI;X-ADDRESS=Spinnereigarten 10\, Wangen
 \, 88239\, Deutschland;X-APPLE-RADIUS=100;X-TITLE=Stiller Übungsraum Wang
 en:geo:47.677589,9.821454
END:VEVENT
BEGIN:VTIMEZONE
TZID:Europe/Berlin
X-LIC-LOCATION:Europe/Berlin
BEGIN:STANDARD
DTSTART:20221030T020000
TZOFFSETFROM:+0200
TZOFFSETTO:+0100
TZNAME:CET
END:STANDARD
END:VTIMEZONE
END:VCALENDAR