BEGIN:VCALENDAR
VERSION:2.0
PRODID:-//wp-events-plugin.com//7.2.3.1//EN
TZID:Europe/Berlin
X-WR-TIMEZONE:Europe/Berlin
BEGIN:VEVENT
UID:38@qigong-im-allgaeu.de
DTSTART;TZID=Europe/Berlin;VALUE=DATE:20200620
DTEND;TZID=Europe/Berlin;VALUE=DATE:20200622
DTSTAMP:20180917T201818Z
URL:https://qigong-im-allgaeu.de/termine/5-organe-qigong-2/
SUMMARY:5-Organe-Qigong 2
DESCRIPTION:\n\n\nWir korrigieren und vertiefen die Übungsreihe und betrac
 hten sie bezüglich ihrer Wirkungen.\n\n\n
CATEGORIES:Ausbildung,Längere Übungsreihen
LOCATION:VHS Leutkirch\, Untere Grabenstraße 11\, Leutkirch\, Baden-Württ
 emberg\, 88299\, Westallgäu\, Deutschland
GEO:47.8253101;10.021913600000062
X-APPLE-STRUCTURED-LOCATION;VALUE=URI;X-ADDRESS=Untere Grabenstraße 11\, L
 eutkirch\, Baden-Württemberg\, 88299\, Westallgäu\, Deutschland;X-APPLE-
 RADIUS=100;X-TITLE=VHS Leutkirch:geo:47.8253101,10.021913600000062
END:VEVENT
BEGIN:VTIMEZONE
TZID:Europe/Berlin
X-LIC-LOCATION:Europe/Berlin
BEGIN:DAYLIGHT
DTSTART:20200329T030000
TZOFFSETFROM:+0100
TZOFFSETTO:+0200
TZNAME:CEST
END:DAYLIGHT
END:VTIMEZONE
END:VCALENDAR