BEGIN:VCALENDAR
VERSION:2.0
PRODID:-//wp-events-plugin.com//7.2.3.1//EN
TZID:Europe/Berlin
X-WR-TIMEZONE:Europe/Berlin
BEGIN:VEVENT
UID:448@qigong-im-allgaeu.de
DTSTART;TZID=Europe/Berlin;VALUE=DATE:20241130
DTEND;TZID=Europe/Berlin;VALUE=DATE:20241202
DTSTAMP:20240612T163524Z
URL:https://qigong-im-allgaeu.de/termine/18-uebungen-des-taiji-qigong-2-3/
SUMMARY:18 Übungen des Taiji Qigong 2
DESCRIPTION:\n\nDie Übungen werden korrigiert\, vertieft und bezüglich de
 r ggf. veränderten Wirksamkeit bei Abweichungen und Varianten betrachtet.
  Es geht dabei um das tiefere Verständnis der Bewegung und die Fähigkeit
 \, sich selbst zu korrigieren.\n\n
CATEGORIES:Ausbildung 2024,Längere Übungsreihen
LOCATION:Stiller Übungsraum Wangen\, Spinnereigarten 10\, Wangen\, 88239\,
  Deutschland
GEO:47.677589;9.821454
X-APPLE-STRUCTURED-LOCATION;VALUE=URI;X-ADDRESS=Spinnereigarten 10\, Wangen
 \, 88239\, Deutschland;X-APPLE-RADIUS=100;X-TITLE=Stiller Übungsraum Wang
 en:geo:47.677589,9.821454
END:VEVENT
BEGIN:VTIMEZONE
TZID:Europe/Berlin
X-LIC-LOCATION:Europe/Berlin
BEGIN:STANDARD
DTSTART:20241027T020000
TZOFFSETFROM:+0200
TZOFFSETTO:+0100
TZNAME:CET
END:STANDARD
END:VTIMEZONE
END:VCALENDAR